Package: scmeth Version: 1.22.0 Command: /home/biocbuild/R/R-4.3.1/bin/R CMD build --keep-empty-dirs --no-resave-data scmeth StartedAt: 2023-11-02 05:48:09 -0000 (Thu, 02 Nov 2023) EndedAt: 2023-11-02 05:50:10 -0000 (Thu, 02 Nov 2023) EllapsedTime: 121.2 seconds RetCode: 0 Status: OK PackageFile: scmeth_1.22.0.tar.gz PackageFileSize: 815.1 KiB