Package: scifer Version: 1.4.0 Command: /Library/Frameworks/R.framework/Resources/bin/R CMD INSTALL scifer StartedAt: 2024-03-03 15:26:52 -0500 (Sun, 03 Mar 2024) EndedAt: 2024-03-03 15:27:17 -0500 (Sun, 03 Mar 2024) EllapsedTime: 25.1 seconds RetCode: 0 Status: OK