Package: scifer Version: 1.4.0 Command: /Library/Frameworks/R.framework/Resources/bin/R CMD build --keep-empty-dirs --no-resave-data scifer StartedAt: 2024-03-03 18:12:18 -0500 (Sun, 03 Mar 2024) EndedAt: 2024-03-03 18:14:41 -0500 (Sun, 03 Mar 2024) EllapsedTime: 143.5 seconds RetCode: 0 Status: OK PackageFile: scifer_1.4.0.tar.gz PackageFileSize: 2.245 MiB