Package: scifer Version: 1.4.0 Command: rm -rf scifer.buildbin-libdir && mkdir scifer.buildbin-libdir && /Users/biocbuild/BBS/utils/build-universal.sh scifer_1.4.0.tar.gz /Library/Frameworks/R.framework/Resources/bin/R scifer.buildbin-libdir StartedAt: 2024-03-04 01:03:14 -0500 (Mon, 04 Mar 2024) EndedAt: 2024-03-04 01:03:40 -0500 (Mon, 04 Mar 2024) EllapsedTime: 26.0 seconds RetCode: 0 Status: OK PackageFile: scifer_1.4.0.tgz PackageFileSize: 2.273 MiB