Package: scider Version: 1.0.0 Command: /Library/Frameworks/R.framework/Resources/bin/R CMD INSTALL scider StartedAt: 2024-03-03 15:38:32 -0500 (Sun, 03 Mar 2024) EndedAt: 2024-03-03 15:39:12 -0500 (Sun, 03 Mar 2024) EllapsedTime: 39.7 seconds RetCode: 0 Status: OK