Package: schex Version: 1.16.1 Command: F:\biocbuild\bbs-3.18-bioc\R\bin\R.exe CMD INSTALL schex StartedAt: 2024-04-15 15:50:28 -0400 (Mon, 15 Apr 2024) EndedAt: 2024-04-15 15:51:02 -0400 (Mon, 15 Apr 2024) EllapsedTime: 34.3 seconds RetCode: 0 Status: OK