Package: schex Version: 1.16.1 Command: F:\biocbuild\bbs-3.18-bioc\R\bin\R.exe CMD check --no-multiarch --install=check:schex.install-out.txt --library=F:\biocbuild\bbs-3.18-bioc\R\library --no-vignettes --timings schex_1.16.1.tar.gz StartedAt: 2024-04-16 04:49:33 -0400 (Tue, 16 Apr 2024) EndedAt: 2024-04-16 04:56:34 -0400 (Tue, 16 Apr 2024) EllapsedTime: 420.9 seconds RetCode: 0 Status: OK CheckDir: schex.Rcheck Warnings: 0