Package: schex Version: 1.16.1 Command: chmod a+r schex -R && F:\biocbuild\bbs-3.18-bioc\R\bin\R.exe CMD build --keep-empty-dirs --no-resave-data schex StartedAt: 2024-04-15 20:57:26 -0400 (Mon, 15 Apr 2024) EndedAt: 2024-04-15 20:59:47 -0400 (Mon, 15 Apr 2024) EllapsedTime: 140.9 seconds RetCode: 0 Status: OK PackageFile: schex_1.16.1.tar.gz PackageFileSize: 2.893 MiB