Package: schex Version: 1.16.1 Command: rm -rf schex.buildbin-libdir && mkdir schex.buildbin-libdir && F:\biocbuild\bbs-3.18-bioc\R\bin\R.exe CMD INSTALL --build --library=schex.buildbin-libdir schex_1.16.1.tar.gz StartedAt: 2024-04-16 07:38:50 -0400 (Tue, 16 Apr 2024) EndedAt: 2024-04-16 07:39:26 -0400 (Tue, 16 Apr 2024) EllapsedTime: 36.2 seconds RetCode: 0 Status: OK PackageFile: schex_1.16.1.zip PackageFileSize: 1.603 MiB