Package: schex Version: 1.16.1 Command: rm -rf schex.buildbin-libdir && mkdir schex.buildbin-libdir && /Users/biocbuild/BBS/utils/build-universal.sh schex_1.16.1.tar.gz /Library/Frameworks/R.framework/Resources/bin/R schex.buildbin-libdir StartedAt: 2024-04-16 12:40:34 -0400 (Tue, 16 Apr 2024) EndedAt: 2024-04-16 12:41:31 -0400 (Tue, 16 Apr 2024) EllapsedTime: 57.7 seconds RetCode: 0 Status: OK PackageFile: schex_1.16.1.tgz PackageFileSize: 2.396 MiB