Package: schex Version: 1.16.0 Command: /home/biocbuild/R/R-4.3.1/bin/R CMD build --keep-empty-dirs --no-resave-data schex StartedAt: 2023-11-02 05:45:42 -0000 (Thu, 02 Nov 2023) EndedAt: 2023-11-02 06:25:43 -0000 (Thu, 02 Nov 2023) EllapsedTime: 2400.5 seconds RetCode: None Status: TIMEOUT PackageFile: None PackageFileSize: NA