Package: scde Version: 2.30.0 Command: rm -rf scde.buildbin-libdir && mkdir scde.buildbin-libdir && /Users/biocbuild/BBS/utils/build-universal.sh scde_2.30.0.tar.gz /Library/Frameworks/R.framework/Resources/bin/R scde.buildbin-libdir StartedAt: 2024-04-16 12:40:07 -0400 (Tue, 16 Apr 2024) EndedAt: 2024-04-16 12:42:19 -0400 (Tue, 16 Apr 2024) EllapsedTime: 132.8 seconds RetCode: 0 Status: OK PackageFile: scde_2.30.0.tgz PackageFileSize: 2.211 MiB