Package: scde Version: 2.30.0 Command: /Library/Frameworks/R.framework/Resources/bin/R CMD INSTALL scde StartedAt: 2024-03-03 15:35:29 -0500 (Sun, 03 Mar 2024) EndedAt: 2024-03-03 15:36:38 -0500 (Sun, 03 Mar 2024) EllapsedTime: 69.7 seconds RetCode: 0 Status: OK