Package: scde Version: 2.30.0 Command: /Library/Frameworks/R.framework/Resources/bin/R CMD check --install=check:scde.install-out.txt --library=/Library/Frameworks/R.framework/Resources/library --no-vignettes --timings scde_2.30.0.tar.gz StartedAt: 2024-03-03 23:16:12 -0500 (Sun, 03 Mar 2024) EndedAt: 2024-03-03 23:18:49 -0500 (Sun, 03 Mar 2024) EllapsedTime: 157.2 seconds RetCode: 0 Status: WARNINGS CheckDir: scde.Rcheck Warnings: 3