Package: scde Version: 2.30.0 Command: /home/biocbuild/R/R-4.3.1/bin/R CMD build --keep-empty-dirs --no-resave-data scde StartedAt: 2023-11-02 05:44:42 -0000 (Thu, 02 Nov 2023) EndedAt: 2023-11-02 05:44:43 -0000 (Thu, 02 Nov 2023) EllapsedTime: 1.0 seconds RetCode: 0 Status: OK PackageFile: scde_2.30.0.tar.gz PackageFileSize: 1.059 MiB