Package: sccomp Version: 1.6.0 Command: /home/biocbuild/R/R-4.3.1/bin/R CMD build --keep-empty-dirs --no-resave-data sccomp StartedAt: 2023-11-02 05:43:36 -0000 (Thu, 02 Nov 2023) EndedAt: 2023-11-02 05:45:26 -0000 (Thu, 02 Nov 2023) EllapsedTime: 109.6 seconds RetCode: 1 Status: ERROR PackageFile: None PackageFileSize: NA