Package: scatterHatch Version: 1.8.0 Command: /home/biocbuild/bbs-3.18-bioc/R/bin/R CMD check --install=check:scatterHatch.install-out.txt --library=/home/biocbuild/bbs-3.18-bioc/R/site-library --timings scatterHatch_1.8.0.tar.gz StartedAt: 2024-04-16 03:26:02 -0400 (Tue, 16 Apr 2024) EndedAt: 2024-04-16 03:28:23 -0400 (Tue, 16 Apr 2024) EllapsedTime: 141.8 seconds RetCode: 0 Status: OK CheckDir: scatterHatch.Rcheck Warnings: 0