Package: scatterHatch Version: 1.8.0 Command: /Library/Frameworks/R.framework/Resources/bin/R CMD build --keep-empty-dirs --no-resave-data scatterHatch StartedAt: 2024-03-03 18:09:58 -0500 (Sun, 03 Mar 2024) EndedAt: 2024-03-03 18:10:30 -0500 (Sun, 03 Mar 2024) EllapsedTime: 32.7 seconds RetCode: 0 Status: OK PackageFile: scatterHatch_1.8.0.tar.gz PackageFileSize: 3.036 MiB