Package: scater Version: 1.29.4 Command: /home/biocbuild/R/R-4.3.1/bin/R CMD check --install=check:scater.install-out.txt --library=/home/biocbuild/R/R-4.3.1/site-library --timings scater_1.29.4.tar.gz StartedAt: 2023-10-24 12:25:19 -0000 (Tue, 24 Oct 2023) EndedAt: 2023-10-24 12:39:22 -0000 (Tue, 24 Oct 2023) EllapsedTime: 842.3 seconds RetCode: 0 Status: OK CheckDir: scater.Rcheck Warnings: 0