Package: scater Version: 1.30.0 Command: /home/biocbuild/R/R-4.3.1/bin/R CMD build --keep-empty-dirs --no-resave-data scater StartedAt: 2023-11-02 05:42:51 -0000 (Thu, 02 Nov 2023) EndedAt: 2023-11-02 06:22:51 -0000 (Thu, 02 Nov 2023) EllapsedTime: 2400.2 seconds RetCode: None Status: TIMEOUT PackageFile: None PackageFileSize: NA