Package: scater Version: 1.30.1 Maintainer: Alan O'Callaghan MaintainerEmail: alan.ocallaghan at outlook.com git_url: https://git.bioconductor.org/packages/scater git_branch: RELEASE_3_18 git_last_commit: 27d0d22 git_last_commit_date: 2023-11-16 08:32:36 -0400 (Thu, 16 Nov 2023)