Package: scanMiRApp Version: 1.8.0 Command: chmod a+r scanMiRApp -R && F:\biocbuild\bbs-3.18-bioc\R\bin\R.exe CMD build --keep-empty-dirs --no-resave-data scanMiRApp StartedAt: 2024-04-15 20:53:10 -0400 (Mon, 15 Apr 2024) EndedAt: 2024-04-15 20:54:30 -0400 (Mon, 15 Apr 2024) EllapsedTime: 80.8 seconds RetCode: 0 Status: OK PackageFile: scanMiRApp_1.8.0.tar.gz PackageFileSize: 878.1 KiB