Package: scTHI Version: 1.14.0 Command: rm -rf scTHI.buildbin-libdir && mkdir scTHI.buildbin-libdir && F:\biocbuild\bbs-3.18-bioc\R\bin\R.exe CMD INSTALL --build --library=scTHI.buildbin-libdir scTHI_1.14.0.tar.gz StartedAt: 2024-04-16 07:40:01 -0400 (Tue, 16 Apr 2024) EndedAt: 2024-04-16 07:40:09 -0400 (Tue, 16 Apr 2024) EllapsedTime: 8.7 seconds RetCode: 0 Status: OK PackageFile: scTHI_1.14.0.zip PackageFileSize: 570.9 KiB