Package: scTHI Version: 1.14.0 Command: rm -rf scTHI.buildbin-libdir && mkdir scTHI.buildbin-libdir && /Users/biocbuild/BBS/utils/build-universal.sh scTHI_1.14.0.tar.gz /Library/Frameworks/R.framework/Resources/bin/R scTHI.buildbin-libdir StartedAt: 2024-03-04 01:03:55 -0500 (Mon, 04 Mar 2024) EndedAt: 2024-03-04 01:04:01 -0500 (Mon, 04 Mar 2024) EllapsedTime: 5.7 seconds RetCode: 0 Status: OK PackageFile: scTHI_1.14.0.tgz PackageFileSize: 712.3 KiB