Package: scTHI Version: 1.14.0 Command: /home/biocbuild/R/R-4.3.1/bin/R CMD build --keep-empty-dirs --no-resave-data scTHI StartedAt: 2023-11-02 05:56:43 -0000 (Thu, 02 Nov 2023) EndedAt: 2023-11-02 05:58:33 -0000 (Thu, 02 Nov 2023) EllapsedTime: 110.1 seconds RetCode: 0 Status: OK PackageFile: scTHI_1.14.0.tar.gz PackageFileSize: 703.6 KiB