Package: scTGIF Version: 1.16.0 Command: rm -rf scTGIF.buildbin-libdir && mkdir scTGIF.buildbin-libdir && /Users/biocbuild/BBS/utils/build-universal.sh scTGIF_1.16.0.tar.gz /Library/Frameworks/R.framework/Resources/bin/R scTGIF.buildbin-libdir StartedAt: 2024-04-16 12:42:19 -0400 (Tue, 16 Apr 2024) EndedAt: 2024-04-16 12:43:42 -0400 (Tue, 16 Apr 2024) EllapsedTime: 82.5 seconds RetCode: 0 Status: OK PackageFile: scTGIF_1.16.0.tgz PackageFileSize: 2.03 MiB