Package: scTGIF Version: 1.16.0 Command: rm -rf scTGIF.buildbin-libdir && mkdir scTGIF.buildbin-libdir && /Users/biocbuild/BBS/utils/build-universal.sh scTGIF_1.16.0.tar.gz /Library/Frameworks/R.framework/Resources/bin/R scTGIF.buildbin-libdir StartedAt: 2024-03-04 01:03:54 -0500 (Mon, 04 Mar 2024) EndedAt: 2024-03-04 01:04:51 -0500 (Mon, 04 Mar 2024) EllapsedTime: 56.3 seconds RetCode: 0 Status: OK PackageFile: scTGIF_1.16.0.tgz PackageFileSize: 2.005 MiB