Package: scRepertoire Version: 1.12.0 Command: rm -rf scRepertoire.buildbin-libdir && mkdir scRepertoire.buildbin-libdir && F:\biocbuild\bbs-3.18-bioc\R\bin\R.exe CMD INSTALL --build --library=scRepertoire.buildbin-libdir scRepertoire_1.12.0.tar.gz StartedAt: 2024-04-16 07:39:42 -0400 (Tue, 16 Apr 2024) EndedAt: 2024-04-16 07:40:36 -0400 (Tue, 16 Apr 2024) EllapsedTime: 53.8 seconds RetCode: 0 Status: OK PackageFile: scRepertoire_1.12.0.zip PackageFileSize: 6.039 MiB