Package: scReClassify Version: 1.8.0 Command: chmod a+r scReClassify -R && F:\biocbuild\bbs-3.18-bioc\R\bin\R.exe CMD build --keep-empty-dirs --no-resave-data scReClassify StartedAt: 2024-04-15 21:01:04 -0400 (Mon, 15 Apr 2024) EndedAt: 2024-04-15 21:04:46 -0400 (Mon, 15 Apr 2024) EllapsedTime: 222.3 seconds RetCode: 0 Status: OK PackageFile: scReClassify_1.8.0.tar.gz PackageFileSize: 2.54 MiB