Package: scReClassify Version: 1.8.0 Command: /Library/Frameworks/R.framework/Resources/bin/R CMD INSTALL scReClassify StartedAt: 2024-04-15 15:19:13 -0400 (Mon, 15 Apr 2024) EndedAt: 2024-04-15 15:20:00 -0400 (Mon, 15 Apr 2024) EllapsedTime: 46.8 seconds RetCode: 0 Status: OK