Package: scReClassify Version: 1.8.0 Command: /home/biocbuild/R/R-4.3.1/bin/R CMD build --keep-empty-dirs --no-resave-data scReClassify StartedAt: 2023-11-02 05:50:58 -0000 (Thu, 02 Nov 2023) EndedAt: 2023-11-02 05:54:23 -0000 (Thu, 02 Nov 2023) EllapsedTime: 204.3 seconds RetCode: 0 Status: OK PackageFile: scReClassify_1.8.0.tar.gz PackageFileSize: 2.633 MiB