Package: scRNAseqApp Version: 1.2.2 Command: chmod a+r scRNAseqApp -R && F:\biocbuild\bbs-3.18-bioc\R\bin\R.exe CMD build --keep-empty-dirs --no-resave-data scRNAseqApp StartedAt: 2024-04-15 21:01:59 -0400 (Mon, 15 Apr 2024) EndedAt: 2024-04-15 21:03:47 -0400 (Mon, 15 Apr 2024) EllapsedTime: 107.9 seconds RetCode: 0 Status: OK PackageFile: scRNAseqApp_1.2.2.tar.gz PackageFileSize: 2.168 MiB