Package: scRNAseqApp Version: 1.2.2 Command: rm -rf scRNAseqApp.buildbin-libdir && mkdir scRNAseqApp.buildbin-libdir && F:\biocbuild\bbs-3.18-bioc\R\bin\R.exe CMD INSTALL --build --library=scRNAseqApp.buildbin-libdir scRNAseqApp_1.2.2.tar.gz StartedAt: 2024-04-16 07:39:51 -0400 (Tue, 16 Apr 2024) EndedAt: 2024-04-16 07:41:22 -0400 (Tue, 16 Apr 2024) EllapsedTime: 91.1 seconds RetCode: 0 Status: OK PackageFile: scRNAseqApp_1.2.2.zip PackageFileSize: 3.391 MiB