Package: scRNAseqApp Version: 1.2.2 Command: /home/biocbuild/bbs-3.18-bioc/R/bin/R CMD check --install=check:scRNAseqApp.install-out.txt --library=/home/biocbuild/bbs-3.18-bioc/R/site-library --timings scRNAseqApp_1.2.2.tar.gz StartedAt: 2024-04-16 03:41:33 -0400 (Tue, 16 Apr 2024) EndedAt: 2024-04-16 04:21:34 -0400 (Tue, 16 Apr 2024) EllapsedTime: 2400.9 seconds RetCode: None Status: TIMEOUT CheckDir: scRNAseqApp.Rcheck Warnings: NA