Package: scRNAseqApp Version: 1.2.2 Command: /home/biocbuild/bbs-3.18-bioc/R/bin/R CMD build --keep-empty-dirs --no-resave-data scRNAseqApp StartedAt: 2024-04-15 19:09:21 -0400 (Mon, 15 Apr 2024) EndedAt: 2024-04-15 19:10:46 -0400 (Mon, 15 Apr 2024) EllapsedTime: 85.2 seconds RetCode: 0 Status: OK PackageFile: scRNAseqApp_1.2.2.tar.gz PackageFileSize: 2.168 MiB