Package: scRNAseqApp Version: 1.2.2 Command: /Library/Frameworks/R.framework/Resources/bin/R CMD INSTALL scRNAseqApp StartedAt: 2024-04-15 16:09:18 -0400 (Mon, 15 Apr 2024) EndedAt: 2024-04-15 16:11:58 -0400 (Mon, 15 Apr 2024) EllapsedTime: 160.1 seconds RetCode: 0 Status: OK