Package: scRNAseqApp Version: 1.2.2 Command: /Library/Frameworks/R.framework/Resources/bin/R CMD build --keep-empty-dirs --no-resave-data scRNAseqApp StartedAt: 2024-03-03 18:15:13 -0500 (Sun, 03 Mar 2024) EndedAt: 2024-03-03 18:17:21 -0500 (Sun, 03 Mar 2024) EllapsedTime: 128.2 seconds RetCode: 0 Status: OK PackageFile: scRNAseqApp_1.2.2.tar.gz PackageFileSize: 2.168 MiB