Package: scRNAseqApp Version: 1.2.2 Command: rm -rf scRNAseqApp.buildbin-libdir && mkdir scRNAseqApp.buildbin-libdir && /Users/biocbuild/BBS/utils/build-universal.sh scRNAseqApp_1.2.2.tar.gz /Library/Frameworks/R.framework/Resources/bin/R scRNAseqApp.buildbin-libdir StartedAt: 2024-03-04 01:03:49 -0500 (Mon, 04 Mar 2024) EndedAt: 2024-03-04 01:05:22 -0500 (Mon, 04 Mar 2024) EllapsedTime: 93.8 seconds RetCode: 0 Status: OK PackageFile: scRNAseqApp_1.2.2.tgz PackageFileSize: 3.389 MiB