Package: scPCA Version: 1.16.0 Command: rm -rf scPCA.buildbin-libdir && mkdir scPCA.buildbin-libdir && F:\biocbuild\bbs-3.18-bioc\R\bin\R.exe CMD INSTALL --build --library=scPCA.buildbin-libdir scPCA_1.16.0.tar.gz StartedAt: 2024-04-16 07:39:21 -0400 (Tue, 16 Apr 2024) EndedAt: 2024-04-16 07:39:51 -0400 (Tue, 16 Apr 2024) EllapsedTime: 30.3 seconds RetCode: 0 Status: OK PackageFile: scPCA_1.16.0.zip PackageFileSize: 903.7 KiB