Package: scPCA Version: 1.16.0 Command: /Library/Frameworks/R.framework/Resources/bin/R CMD build --keep-empty-dirs --no-resave-data scPCA StartedAt: 2024-04-15 21:45:40 -0400 (Mon, 15 Apr 2024) EndedAt: 2024-04-15 22:00:40 -0400 (Mon, 15 Apr 2024) EllapsedTime: 899.5 seconds RetCode: 0 Status: OK PackageFile: scPCA_1.16.0.tar.gz PackageFileSize: 2.049 MiB