Package: scMerge Version: 1.18.0 Command: /Library/Frameworks/R.framework/Resources/bin/R CMD build --keep-empty-dirs --no-resave-data scMerge StartedAt: 2024-03-03 18:12:54 -0500 (Sun, 03 Mar 2024) EndedAt: 2024-03-03 18:15:54 -0500 (Sun, 03 Mar 2024) EllapsedTime: 180.6 seconds RetCode: 0 Status: OK PackageFile: scMerge_1.18.0.tar.gz PackageFileSize: 2.861 MiB