Package: scMerge Version: 1.18.0 Command: rm -rf scMerge.buildbin-libdir && mkdir scMerge.buildbin-libdir && /Users/biocbuild/BBS/utils/build-universal.sh scMerge_1.18.0.tar.gz /Library/Frameworks/R.framework/Resources/bin/R scMerge.buildbin-libdir StartedAt: 2024-03-04 01:03:16 -0500 (Mon, 04 Mar 2024) EndedAt: 2024-03-04 01:04:16 -0500 (Mon, 04 Mar 2024) EllapsedTime: 59.9 seconds RetCode: 0 Status: OK PackageFile: scMerge_1.18.0.tgz PackageFileSize: 2.965 MiB