Package: scMET Version: 1.4.0 Command: /home/biocbuild/bbs-3.18-bioc/R/bin/R CMD INSTALL scMET StartedAt: 2024-04-15 15:31:16 -0400 (Mon, 15 Apr 2024) EndedAt: 2024-04-15 15:33:28 -0400 (Mon, 15 Apr 2024) EllapsedTime: 132.0 seconds RetCode: 0 Status: OK