Package: scMET Version: 1.4.0 Command: /Library/Frameworks/R.framework/Resources/bin/R CMD check --install=check:scMET.install-out.txt --library=/Library/Frameworks/R.framework/Resources/library --no-vignettes --timings scMET_1.4.0.tar.gz StartedAt: 2024-04-16 08:32:58 -0400 (Tue, 16 Apr 2024) EndedAt: 2024-04-16 08:38:55 -0400 (Tue, 16 Apr 2024) EllapsedTime: 357.1 seconds RetCode: 0 Status: OK CheckDir: scMET.Rcheck Warnings: 0