Package: scHOT Version: 1.14.0 Command: rm -rf scHOT.buildbin-libdir && mkdir scHOT.buildbin-libdir && F:\biocbuild\bbs-3.18-bioc\R\bin\R.exe CMD INSTALL --build --library=scHOT.buildbin-libdir scHOT_1.14.0.tar.gz StartedAt: 2024-04-16 07:38:51 -0400 (Tue, 16 Apr 2024) EndedAt: 2024-04-16 07:39:31 -0400 (Tue, 16 Apr 2024) EllapsedTime: 39.9 seconds RetCode: 0 Status: OK PackageFile: scHOT_1.14.0.zip PackageFileSize: 2.236 MiB