Package: scDataviz Version: 1.12.0 Command: rm -rf scDataviz.buildbin-libdir && mkdir scDataviz.buildbin-libdir && F:\biocbuild\bbs-3.18-bioc\R\bin\R.exe CMD INSTALL --build --library=scDataviz.buildbin-libdir scDataviz_1.12.0.tar.gz StartedAt: 2024-04-16 07:38:16 -0400 (Tue, 16 Apr 2024) EndedAt: 2024-04-16 07:39:09 -0400 (Tue, 16 Apr 2024) EllapsedTime: 52.9 seconds RetCode: 0 Status: OK PackageFile: scDataviz_1.12.0.zip PackageFileSize: 2.859 MiB