Package: scDataviz Version: 1.12.0 Command: /Library/Frameworks/R.framework/Resources/bin/R CMD INSTALL scDataviz StartedAt: 2024-04-15 16:16:41 -0400 (Mon, 15 Apr 2024) EndedAt: 2024-04-15 16:18:03 -0400 (Mon, 15 Apr 2024) EllapsedTime: 81.7 seconds RetCode: 0 Status: OK