Package: scDataviz Version: 1.12.0 Command: /Library/Frameworks/R.framework/Resources/bin/R CMD build --keep-empty-dirs --no-resave-data scDataviz StartedAt: 2024-03-03 18:10:34 -0500 (Sun, 03 Mar 2024) EndedAt: 2024-03-03 18:15:54 -0500 (Sun, 03 Mar 2024) EllapsedTime: 320.7 seconds RetCode: 0 Status: OK PackageFile: scDataviz_1.12.0.tar.gz PackageFileSize: 7.518 MiB