Package: scDataviz Version: 1.12.0 Command: rm -rf scDataviz.buildbin-libdir && mkdir scDataviz.buildbin-libdir && /Users/biocbuild/BBS/utils/build-universal.sh scDataviz_1.12.0.tar.gz /Library/Frameworks/R.framework/Resources/bin/R scDataviz.buildbin-libdir StartedAt: 2024-03-04 01:02:53 -0500 (Mon, 04 Mar 2024) EndedAt: 2024-03-04 01:03:51 -0500 (Mon, 04 Mar 2024) EllapsedTime: 57.7 seconds RetCode: 0 Status: OK PackageFile: scDataviz_1.12.0.tgz PackageFileSize: 4.598 MiB