Package: scDataviz Version: 1.12.0 Command: /home/biocbuild/R/R-4.3.1/bin/R CMD INSTALL scDataviz StartedAt: 2023-11-01 20:49:20 -0000 (Wed, 01 Nov 2023) EndedAt: 2023-11-01 20:50:08 -0000 (Wed, 01 Nov 2023) EllapsedTime: 48.2 seconds RetCode: 0 Status: OK